BEGIN:VCALENDAR
VERSION:2.0
PRODID:-//St Joe County Restoration Club - ECPv6.15.20//NONSGML v1.0//EN
CALSCALE:GREGORIAN
METHOD:PUBLISH
X-ORIGINAL-URL:https://stjoecountyrestorationclub.com
X-WR-CALDESC:Events for St Joe County Restoration Club
REFRESH-INTERVAL;VALUE=DURATION:PT1H
X-Robots-Tag:noindex
X-PUBLISHED-TTL:PT1H
BEGIN:VTIMEZONE
TZID:America/Indiana/Indianapolis
BEGIN:DAYLIGHT
TZOFFSETFROM:-0500
TZOFFSETTO:-0400
TZNAME:EDT
DTSTART:20250309T070000
END:DAYLIGHT
BEGIN:STANDARD
TZOFFSETFROM:-0400
TZOFFSETTO:-0500
TZNAME:EST
DTSTART:20251102T060000
END:STANDARD
BEGIN:DAYLIGHT
TZOFFSETFROM:-0500
TZOFFSETTO:-0400
TZNAME:EDT
DTSTART:20260308T070000
END:DAYLIGHT
BEGIN:STANDARD
TZOFFSETFROM:-0400
TZOFFSETTO:-0500
TZNAME:EST
DTSTART:20261101T060000
END:STANDARD
BEGIN:DAYLIGHT
TZOFFSETFROM:-0500
TZOFFSETTO:-0400
TZNAME:EDT
DTSTART:20270314T070000
END:DAYLIGHT
BEGIN:STANDARD
TZOFFSETFROM:-0400
TZOFFSETTO:-0500
TZNAME:EST
DTSTART:20271107T060000
END:STANDARD
END:VTIMEZONE
BEGIN:VEVENT
DTSTART;TZID=America/Indiana/Indianapolis:20261024T083000
DTEND;TZID=America/Indiana/Indianapolis:20261024T130000
DTSTAMP:20260419T114355
CREATED:20250312T213345Z
LAST-MODIFIED:20260206T202319Z
UID:8222-1792830600-1792846800@stjoecountyrestorationclub.com
SUMMARY:2026 Doomsday! Match (3 gun)
DESCRIPTION:Registration begins at 8:30 a.m.\n\n\n\nCompetition begins at 9:00 a.m.\n\n\n\n\nEquipment: Any centerfire rifle\, any centerfire pistol\, and any shotgun\, capable of knocking down a steel plate or popper\, all any sights (iron sights\, scopes\, electronic sights\, lasers\, etc.\, are all legal). As much ammo and magazines as you can carry\, though you should be set with 60 rifle rounds\, 25 pistol rounds\, 10 shotgun shells (no slugs\, please)\, unless you happen to miss a lot. \n\n\n\nCourse of Fire: Plan to engage numerous steel\, paper\, and/or other targets from 15 to 100 yards from multiple positions\, moving between firing points. \n\n\n\nYour score is the time you take to complete the course. \n\n\n\nThis match will be on the rifle range.
URL:https://stjoecountyrestorationclub.com/event/2025-doomsday-match-3-gun/
LOCATION:St Joe County Restoration Club\, 57979 Co Rd 100\, Elkhart\, IN\, 46517\, United States
CATEGORIES:Competition
ORGANIZER;CN="David Clark":MAILTO:davidclarkcal30@gmail.com
END:VEVENT
END:VCALENDAR